BEGIN:VCALENDAR
VERSION:2.0
PRODID:-//Progressive Employment Concepts - ECPv6.15.20//NONSGML v1.0//EN
CALSCALE:GREGORIAN
METHOD:PUBLISH
X-ORIGINAL-URL:https://progressiveemployment.org
X-WR-CALDESC:Events for Progressive Employment Concepts
REFRESH-INTERVAL;VALUE=DURATION:PT1H
X-Robots-Tag:noindex
X-PUBLISHED-TTL:PT1H
BEGIN:VTIMEZONE
TZID:America/Los_Angeles
BEGIN:DAYLIGHT
TZOFFSETFROM:-0800
TZOFFSETTO:-0700
TZNAME:PDT
DTSTART:20240310T100000
END:DAYLIGHT
BEGIN:STANDARD
TZOFFSETFROM:-0700
TZOFFSETTO:-0800
TZNAME:PST
DTSTART:20241103T090000
END:STANDARD
BEGIN:DAYLIGHT
TZOFFSETFROM:-0800
TZOFFSETTO:-0700
TZNAME:PDT
DTSTART:20250309T100000
END:DAYLIGHT
BEGIN:STANDARD
TZOFFSETFROM:-0700
TZOFFSETTO:-0800
TZNAME:PST
DTSTART:20251102T090000
END:STANDARD
BEGIN:DAYLIGHT
TZOFFSETFROM:-0800
TZOFFSETTO:-0700
TZNAME:PDT
DTSTART:20260308T100000
END:DAYLIGHT
BEGIN:STANDARD
TZOFFSETFROM:-0700
TZOFFSETTO:-0800
TZNAME:PST
DTSTART:20261101T090000
END:STANDARD
END:VTIMEZONE
BEGIN:VEVENT
DTSTART;TZID=America/Los_Angeles:20250114T090000
DTEND;TZID=America/Los_Angeles:20250130T170000
DTSTAMP:20260425T204924
CREATED:20241204T171214Z
LAST-MODIFIED:20241204T171214Z
UID:86072-1736845200-1738256400@progressiveemployment.org
SUMMARY:ACRE- Basic Customized Employment Training
DESCRIPTION:Join us for a five day Customized Employment course: January 14th\, 15th\, 16th\, and January 29th\, 30th. \nThis 40-hour training builds knowledge and skills in the ACRE Customized Employment competencies. \nBelow you will find an overview of the 5 day training schedule: \nDay 1-  \nIntroductions\nAgency History\nOverview of Rights\, History and Legislation.\nIntroduction to Customized Employment (CE) and Discovery\nStage 1 of Discovery\nDay 2- \nOverview of Social Security Benefits\nStage 2 of Discovery\nDay 3- \nStage 3 of Discovery\nStage 4 of Discovery\nDay 4- \nStage 5 of Discovery\nJob Development/ Negotiation\nDay 5- \nSystematic instruction\nJob support \nUpon completion of this course\, you will receive a National Certificate of Achievement in Customized Employment Services Basic Level. Please note that participants must attend all five days to be eligible for certification. \nRegistration includes: \nFive days of training consisting of lecture\, hands on experience\, and homework\nHandbook with resources to be used in training and beyond\nOpportunity to receive the $3000 incentive from DDS for successful completion of the course
URL:https://progressiveemployment.org/event/acre-basic-customized-employment-training-2/
LOCATION:Progressive Employment Concepts Office\, 6060 Sunrise Vista Drive\, Citrus Heights\, CA\, United States
END:VEVENT
END:VCALENDAR