BEGIN:VCALENDAR
VERSION:2.0
PRODID:-//Progressive Employment Concepts - ECPv6.15.20//NONSGML v1.0//EN
CALSCALE:GREGORIAN
METHOD:PUBLISH
X-WR-CALNAME:Progressive Employment Concepts
X-ORIGINAL-URL:https://progressiveemployment.org
X-WR-CALDESC:Events for Progressive Employment Concepts
REFRESH-INTERVAL;VALUE=DURATION:PT1H
X-Robots-Tag:noindex
X-PUBLISHED-TTL:PT1H
BEGIN:VTIMEZONE
TZID:America/Los_Angeles
BEGIN:DAYLIGHT
TZOFFSETFROM:-0800
TZOFFSETTO:-0700
TZNAME:PDT
DTSTART:20240310T100000
END:DAYLIGHT
BEGIN:STANDARD
TZOFFSETFROM:-0700
TZOFFSETTO:-0800
TZNAME:PST
DTSTART:20241103T090000
END:STANDARD
BEGIN:DAYLIGHT
TZOFFSETFROM:-0800
TZOFFSETTO:-0700
TZNAME:PDT
DTSTART:20250309T100000
END:DAYLIGHT
BEGIN:STANDARD
TZOFFSETFROM:-0700
TZOFFSETTO:-0800
TZNAME:PST
DTSTART:20251102T090000
END:STANDARD
BEGIN:DAYLIGHT
TZOFFSETFROM:-0800
TZOFFSETTO:-0700
TZNAME:PDT
DTSTART:20260308T100000
END:DAYLIGHT
BEGIN:STANDARD
TZOFFSETFROM:-0700
TZOFFSETTO:-0800
TZNAME:PST
DTSTART:20261101T090000
END:STANDARD
END:VTIMEZONE
BEGIN:VEVENT
DTSTART;TZID=America/Los_Angeles:20250513T090000
DTEND;TZID=America/Los_Angeles:20250521T170000
DTSTAMP:20260425T092322
CREATED:20250320T230753Z
LAST-MODIFIED:20250320T230753Z
UID:86145-1747126800-1747846800@progressiveemployment.org
SUMMARY:ACRE- Basic Customized Employment Training
DESCRIPTION:Join us for a five day ACRE Customized Employment course: May 13th\, 14th\, 15th and May 20th and 21st.\nThis comprehensive training is designed to enhance your skills in Customized Employment Services. This 40+ hour program covers 40 competencies—25 knowledge-based and 15 skill-based. \nBelow you will find an overview of the 5 day training schedule: \nDay 1- \n\nIntroductions\nAgency History\nOverview of Rights\, History and Legislation.\nIntroduction to Customized Employment (CE) and Discovery\nStage 1 of Discovery\n\nDay 2- \n\nOverview of Social Security Benefits\nStage 2 of Discovery\n\nDay 3- \n\nStage 3 of Discovery\nStage 4 of Discovery\n\nDay 4- \n\nStage 5 of Discovery\nJob Development/ Negotiation\n\nDay 5- \n\nSystematic instruction\nJob support\n\nRegistration includes:\n\nFive days of training consisting of lecture\, hands on experience\, and homework\nHandbook with resources to be used in training and beyond\nOpportunity to receive the $3000 incentive from DDS for successful completion of the course\n\nCertification Requirements:\nParticipants who complete all requirements will receive a National Certificate of Achievement in Customized Employment Services Basic Level. \nTo earn your certificate\, participants must: \n\nAttend all instructional sessions.\nActively participate in discussions and activities.\nComplete and submit all required assignments.
URL:https://progressiveemployment.org/event/acre-basic-customized-employment-training-3/
LOCATION:S.T.E.P. Office\, 2330 Glendale Ln\, Sacramento\, CA\, 95825\, United States
ORGANIZER;CN="Progressive Employment Concepts - ACRE":MAILTO:ACRE@progressiveemployment.org
END:VEVENT
END:VCALENDAR