BEGIN:VCALENDAR
VERSION:2.0
PRODID:-//Progressive Employment Concepts - ECPv6.15.20//NONSGML v1.0//EN
CALSCALE:GREGORIAN
METHOD:PUBLISH
X-ORIGINAL-URL:https://progressiveemployment.org
X-WR-CALDESC:Events for Progressive Employment Concepts
REFRESH-INTERVAL;VALUE=DURATION:PT1H
X-Robots-Tag:noindex
X-PUBLISHED-TTL:PT1H
BEGIN:VTIMEZONE
TZID:America/Los_Angeles
BEGIN:DAYLIGHT
TZOFFSETFROM:-0800
TZOFFSETTO:-0700
TZNAME:PDT
DTSTART:20180311T100000
END:DAYLIGHT
BEGIN:STANDARD
TZOFFSETFROM:-0700
TZOFFSETTO:-0800
TZNAME:PST
DTSTART:20181104T090000
END:STANDARD
BEGIN:DAYLIGHT
TZOFFSETFROM:-0800
TZOFFSETTO:-0700
TZNAME:PDT
DTSTART:20190310T100000
END:DAYLIGHT
BEGIN:STANDARD
TZOFFSETFROM:-0700
TZOFFSETTO:-0800
TZNAME:PST
DTSTART:20191103T090000
END:STANDARD
BEGIN:DAYLIGHT
TZOFFSETFROM:-0800
TZOFFSETTO:-0700
TZNAME:PDT
DTSTART:20200308T100000
END:DAYLIGHT
BEGIN:STANDARD
TZOFFSETFROM:-0700
TZOFFSETTO:-0800
TZNAME:PST
DTSTART:20201101T090000
END:STANDARD
BEGIN:DAYLIGHT
TZOFFSETFROM:-0800
TZOFFSETTO:-0700
TZNAME:PDT
DTSTART:20210314T100000
END:DAYLIGHT
BEGIN:STANDARD
TZOFFSETFROM:-0700
TZOFFSETTO:-0800
TZNAME:PST
DTSTART:20211107T090000
END:STANDARD
BEGIN:DAYLIGHT
TZOFFSETFROM:-0800
TZOFFSETTO:-0700
TZNAME:PDT
DTSTART:20220313T100000
END:DAYLIGHT
BEGIN:STANDARD
TZOFFSETFROM:-0700
TZOFFSETTO:-0800
TZNAME:PST
DTSTART:20221106T090000
END:STANDARD
BEGIN:DAYLIGHT
TZOFFSETFROM:-0800
TZOFFSETTO:-0700
TZNAME:PDT
DTSTART:20230312T100000
END:DAYLIGHT
BEGIN:STANDARD
TZOFFSETFROM:-0700
TZOFFSETTO:-0800
TZNAME:PST
DTSTART:20231105T090000
END:STANDARD
BEGIN:DAYLIGHT
TZOFFSETFROM:-0800
TZOFFSETTO:-0700
TZNAME:PDT
DTSTART:20240310T100000
END:DAYLIGHT
BEGIN:STANDARD
TZOFFSETFROM:-0700
TZOFFSETTO:-0800
TZNAME:PST
DTSTART:20241103T090000
END:STANDARD
BEGIN:DAYLIGHT
TZOFFSETFROM:-0800
TZOFFSETTO:-0700
TZNAME:PDT
DTSTART:20250309T100000
END:DAYLIGHT
BEGIN:STANDARD
TZOFFSETFROM:-0700
TZOFFSETTO:-0800
TZNAME:PST
DTSTART:20251102T090000
END:STANDARD
BEGIN:DAYLIGHT
TZOFFSETFROM:-0800
TZOFFSETTO:-0700
TZNAME:PDT
DTSTART:20260308T100000
END:DAYLIGHT
BEGIN:STANDARD
TZOFFSETFROM:-0700
TZOFFSETTO:-0800
TZNAME:PST
DTSTART:20261101T090000
END:STANDARD
END:VTIMEZONE
BEGIN:VEVENT
DTSTART;TZID=America/Los_Angeles:20251202T090000
DTEND;TZID=America/Los_Angeles:20251203T170000
DTSTAMP:20260423T085336
CREATED:20251031T034801Z
LAST-MODIFIED:20251114T224234Z
UID:86412-1764666000-1764781200@progressiveemployment.org
SUMMARY:Person Centered Thinking Training
DESCRIPTION:Join us for FREE Person Centered Thinking (PCT) Training on December 2-3\, 9-4:30 each day. For certification\, you must attend both days. \nThis training is funded through HCBS grant funds through Alta California Regional Center. \n\nPerson Centered Thinking (PCT) is more than a planning method—it’s a mindset and a set of everyday practices that empower people to have positive control over their lives and participate fully in their communities. This training equips practitioners with the value-based skills and tools needed to integrate person centered thinking into daily interactions and decision-making. \nParticipants will learn practical strategies to: \n\nRecognize and act on what is most important to and for each person they support\nNaturally update and adapt plans based on ongoing learning\nBuild stronger\, more respectful relationships rooted in the individual’s strengths\, preferences\, and goals\n\nWhether you work directly with individuals or support them through broader systems\, Person Centered Thinking provides a foundation for more meaningful plans\, better outcomes\, and improved quality of life. This training will help you see the people you support in a new light—and give you the tools to make that vision part of everyday practice. \n			\n			\n				\n				\n				\n				\n			\n				\n				\n				\n				\n				\n				\n				Register
URL:https://progressiveemployment.org/event/person-centered-thinking-training/
LOCATION:Southside Unlimited Employment Services Office\, 8801 Folsom Blvd\, Suite 275\, Sacramento\, CA\, 95826\, United States
ORGANIZER;CN="Progressive Employment Concepts":MAILTO:give@progressiveemployment.org
END:VEVENT
BEGIN:VEVENT
DTSTART;TZID=America/Los_Angeles:20251011T120000
DTEND;TZID=America/Los_Angeles:20251011T150000
DTSTAMP:20260423T085336
CREATED:20250424T222256Z
LAST-MODIFIED:20250905T000807Z
UID:86174-1760184000-1760194800@progressiveemployment.org
SUMMARY:Cornhole Classic: Celebrating 30 Years of Community
DESCRIPTION:Register\n			\n			\n				\n				\n				\n				\n			\n				\n				\n				\n				\n				\n				\n				\n				\n				\n				\n				Platinum Sponsors\n			\n			\n				\n				\n				\n				\n			\n				\n				\n				\n				\n				\n				\n				\n				\n				\n				\n				\n			\n			\n				\n				\n				\n				\n				\n				\n				\n				\n				\n				\n			\n			\n				\n				\n				\n				\n			\n				\n				\n				\n				\n				\n				\n				\n				\n				\n				\n				\n			\n			\n				\n				\n				\n				\n				\n				\n				\n				\n				\n				\n			\n			\n				\n				\n				\n				\n			\n				\n				\n				\n				\n				\n				\n				\n				\n				\n				\n				Gold Sponsors\n			\n			\n				\n				\n				\n				\n			\n				\n				\n				\n				\n				\n				\n				\n				\n				\n				\n				\n			\n			\n				\n				\n				\n				\n				\n				\n				\n				\n				\n				\n			\n			\n				\n				\n				\n				\n				\n				\n				\n				\n				\n				\n			\n			\n				\n				\n				\n				\n				\n				\n				\n				\n				\n				\n			\n			\n				\n				\n				\n				\n			\n				\n				\n				\n				\n				\n				\n				\n				\n				\n				\n				\n			\n			\n				\n				\n				\n				\n				\n				\n				\n				\n				\n				\n			\n			\n				\n				\n				\n				\n				\n			\n				\n				\n				\n				\n				\n			\n				\n				\n				\n				\n			\n				\n				\n				\n				\n				\n				\n				\n				\n				\n				\n				Silver Sponsors\n			\n			\n				\n				\n				\n				\n			\n				\n				\n				\n				\n				\n				\n				\n				\n				\n				\n				\n			\n			\n				\n				\n				\n				\n				\n				\n				\n				\n				\n				\n			\n			\n				\n				\n				\n				\n				\n				\n				\n				\n				\n				\n			\n			\n				\n				\n				\n				\n				\n				\n				\n				\n				\n				\n			\n			\n				\n				\n				\n				\n				\n				\n				\n				\n				\n				\n			\n			\n				\n				\n				\n				\n			\n				\n				\n				\n				\n				\n				\n				\n				\n				\n				\n				\n			\n			\n				\n				\n				\n				\n				\n				\n				\n				\n				\n				\n			\n			\n				\n				\n				\n				\n				\n				\n				\n				\n				\n				\n			\n			\n				\n				\n				\n				\n				\n				\n				\n				\n				\n				\n			\n			\n				\n				\n				\n				\n				\n			\n				\n				\n				\n				\n			\n				\n				\n				\n				\n				\n				\n				\n				\n				\n				\n				Bronze Sponsors
URL:https://progressiveemployment.org/event/cornhole-classic-celebrating-30-years-of-community/
LOCATION:Drake’s: The Barn\, 985 Riverfront St.\, West Sacramento\, CA\, 95691\, United States
ORGANIZER;CN="Progressive Employment Concepts":MAILTO:give@progressiveemployment.org
END:VEVENT
BEGIN:VEVENT
DTSTART;TZID=America/Los_Angeles:20250819T090000
DTEND;TZID=America/Los_Angeles:20250827T170000
DTSTAMP:20260423T085337
CREATED:20250708T234242Z
LAST-MODIFIED:20251016T234433Z
UID:86255-1755594000-1756314000@progressiveemployment.org
SUMMARY:ACRE Customized Employment In-Person Training
DESCRIPTION:Join us for a five day ACRE Customized Employment course:\nAugust 19th 9am-5pm \nAugust 20th 9am-5pm \nAugust 21st 9am-5pm \nAugust 26th 9am-5pm \nAugust 27th 9am-5pm \nThis comprehensive training is designed to enhance your skills in Customized Employment Services. This 40+ hour program covers 40 competencies—25 knowledge-based and 15 skill-based. \nBelow you will find an overview of the 5 day training schedule: \nDay 1- \n\nIntroductions\nAgency History\nOverview of Rights\, History and Legislation.\nIntroduction to Customized Employment (CE) and Discovery\nStage 1 of Discovery\n\nDay 2- \n\nOverview of Social Security Benefits\nStage 2 of Discovery\n\nDay 3- \n\nStage 3 of Discovery\nStage 4 of Discovery\n\nDay 4- \n\nStage 5 of Discovery\nJob Development/ Negotiation\n\nDay 5- \n\nSystematic instruction\nJob support\n\n  \nCertification Requirements: \nParticipants who complete all requirements will receive a National Certificate of Achievement in Customized Employment Services Basic Level. \nTo earn your certificate\, participants must: \n\nAttend all instructional sessions.\nActively participate in discussions and activities.\nComplete and submit all required assignments.\n\n 
URL:https://progressiveemployment.org/event/acre-customized-employment-in-person-training/
LOCATION:On My Own\, On My Own 6939 Sunrise Blvd\, Citrus Heights\, CA\, 95610\, United States
ORGANIZER;CN="Progressive Employment Concepts - ACRE":MAILTO:ACRE@progressiveemployment.org
END:VEVENT
BEGIN:VEVENT
DTSTART;TZID=America/Los_Angeles:20250513T090000
DTEND;TZID=America/Los_Angeles:20250521T170000
DTSTAMP:20260423T085337
CREATED:20250320T230753Z
LAST-MODIFIED:20250320T230753Z
UID:86145-1747126800-1747846800@progressiveemployment.org
SUMMARY:ACRE- Basic Customized Employment Training
DESCRIPTION:Join us for a five day ACRE Customized Employment course: May 13th\, 14th\, 15th and May 20th and 21st.\nThis comprehensive training is designed to enhance your skills in Customized Employment Services. This 40+ hour program covers 40 competencies—25 knowledge-based and 15 skill-based. \nBelow you will find an overview of the 5 day training schedule: \nDay 1- \n\nIntroductions\nAgency History\nOverview of Rights\, History and Legislation.\nIntroduction to Customized Employment (CE) and Discovery\nStage 1 of Discovery\n\nDay 2- \n\nOverview of Social Security Benefits\nStage 2 of Discovery\n\nDay 3- \n\nStage 3 of Discovery\nStage 4 of Discovery\n\nDay 4- \n\nStage 5 of Discovery\nJob Development/ Negotiation\n\nDay 5- \n\nSystematic instruction\nJob support\n\nRegistration includes:\n\nFive days of training consisting of lecture\, hands on experience\, and homework\nHandbook with resources to be used in training and beyond\nOpportunity to receive the $3000 incentive from DDS for successful completion of the course\n\nCertification Requirements:\nParticipants who complete all requirements will receive a National Certificate of Achievement in Customized Employment Services Basic Level. \nTo earn your certificate\, participants must: \n\nAttend all instructional sessions.\nActively participate in discussions and activities.\nComplete and submit all required assignments.
URL:https://progressiveemployment.org/event/acre-basic-customized-employment-training-3/
LOCATION:S.T.E.P. Office\, 2330 Glendale Ln\, Sacramento\, CA\, 95825\, United States
ORGANIZER;CN="Progressive Employment Concepts - ACRE":MAILTO:ACRE@progressiveemployment.org
END:VEVENT
BEGIN:VEVENT
DTSTART;TZID=America/Los_Angeles:20250204T090000
DTEND;TZID=America/Los_Angeles:20250317T120000
DTSTAMP:20260423T085337
CREATED:20250123T232206Z
LAST-MODIFIED:20250123T233249Z
UID:86116-1738659600-1742212800@progressiveemployment.org
SUMMARY:VIRTUAL ACRE- Basic Customized Employment Training
DESCRIPTION:Join us for a five-week virtual Customized Employment course via Zoom: February 10th through March 17th. This 40-hour training builds knowledge and skills in the ACRE Customized Employment competencies. \nTraining Schedule Overview: \n\nMandatory Orientation: Feb 4th\, 9am\nWeek 1: Introduction to Customized Employment (CE) and Discovery\, including agency history\, relevant rights and legislation\, Social Security benefits\, and the initial stages of Discovery.\nWeek 2: Continued focus on Discovery stages\, Social Security benefits\, and an introduction to job development and negotiation.\nWeek 3: Introduction to Systematic Instruction and job support\, with a focus on networking visits\, task analysis\, and the final stages of Discovery.\nWeek 4: Job development planning\, job analysis\, customized employment activities\, and opportunities for homework submission and office hours.\nWeek 5: Practical application of systematic instruction\, final review\, and preparation for certification\, with certificates issued upon completion.\n\nParticipants who complete the entire course will receive a National Certificate of Achievement in Customized Employment Services (Basic Level). \nRegistration includes: \n\nComprehensive training with lectures\, hands-on activities\, and assignments.\nAccess to our Learning Management System and a resource handbook for training and beyond.\nOpportunity to qualify for a $3\,000 DDS incentive upon successful course completion.\n\nNote: Attendance at all sessions is required for certification.
URL:https://progressiveemployment.org/event/virtual-acre-basic-customized-employment-training/
LOCATION:Online
ORGANIZER;CN="Progressive Employment Concepts - ACRE":MAILTO:ACRE@progressiveemployment.org
END:VEVENT
BEGIN:VEVENT
DTSTART;TZID=America/Los_Angeles:20250114T090000
DTEND;TZID=America/Los_Angeles:20250130T170000
DTSTAMP:20260423T085337
CREATED:20241204T171214Z
LAST-MODIFIED:20241204T171214Z
UID:86072-1736845200-1738256400@progressiveemployment.org
SUMMARY:ACRE- Basic Customized Employment Training
DESCRIPTION:Join us for a five day Customized Employment course: January 14th\, 15th\, 16th\, and January 29th\, 30th. \nThis 40-hour training builds knowledge and skills in the ACRE Customized Employment competencies. \nBelow you will find an overview of the 5 day training schedule: \nDay 1-  \nIntroductions\nAgency History\nOverview of Rights\, History and Legislation.\nIntroduction to Customized Employment (CE) and Discovery\nStage 1 of Discovery\nDay 2- \nOverview of Social Security Benefits\nStage 2 of Discovery\nDay 3- \nStage 3 of Discovery\nStage 4 of Discovery\nDay 4- \nStage 5 of Discovery\nJob Development/ Negotiation\nDay 5- \nSystematic instruction\nJob support \nUpon completion of this course\, you will receive a National Certificate of Achievement in Customized Employment Services Basic Level. Please note that participants must attend all five days to be eligible for certification. \nRegistration includes: \nFive days of training consisting of lecture\, hands on experience\, and homework\nHandbook with resources to be used in training and beyond\nOpportunity to receive the $3000 incentive from DDS for successful completion of the course
URL:https://progressiveemployment.org/event/acre-basic-customized-employment-training-2/
LOCATION:Progressive Employment Concepts Office\, 6060 Sunrise Vista Drive\, Citrus Heights\, CA\, United States
END:VEVENT
BEGIN:VEVENT
DTSTART;TZID=America/Los_Angeles:20241112T090000
DTEND;TZID=America/Los_Angeles:20241121T170000
DTSTAMP:20260423T085337
CREATED:20240822T222746Z
LAST-MODIFIED:20240822T223406Z
UID:85992-1731402000-1732208400@progressiveemployment.org
SUMMARY:ACRE- Basic Customized Employment Training
DESCRIPTION:Join us for a five day Customized Employment course: November 12th\, 13th\, 14th\, and November 20th\, 21st. This 40-hour training builds knowledge and skills in the ACRE Customized Employment competencies.\n			\n			\n				\n				\n				\n				\n			\n				\n				\n				\n				\n				\n				\n				Register
URL:https://progressiveemployment.org/event/acre-basic-customized-employment-training/
END:VEVENT
BEGIN:VEVENT
DTSTART;TZID=America/Los_Angeles:20240724T180000
DTEND;TZID=America/Los_Angeles:20240724T200000
DTSTAMP:20260423T085337
CREATED:20240611T205845Z
LAST-MODIFIED:20240611T211532Z
UID:85904-1721844000-1721851200@progressiveemployment.org
SUMMARY:Benefits Training for Individuals and Families
DESCRIPTION:Register
URL:https://progressiveemployment.org/event/benefits-training-for-individuals-and-families/
LOCATION:S.T.E.P. Office\, 2330 Glendale Ln\, Sacramento\, CA\, 95825\, United States
END:VEVENT
BEGIN:VEVENT
DTSTART;VALUE=DATE:20200507
DTEND;VALUE=DATE:20200508
DTSTAMP:20260423T085337
CREATED:20231027T231613Z
LAST-MODIFIED:20240606T235605Z
UID:85410-1588809600-1588895999@progressiveemployment.org
SUMMARY:Big Day of Giving 2020
DESCRIPTION:Support us on this year’s Big Day of Giving! \nhttps://www.classy.org/give/186232/#!/donation/checkout
URL:https://progressiveemployment.org/event/big-day-of-giving-2020/
END:VEVENT
BEGIN:VEVENT
DTSTART;TZID=America/Los_Angeles:20200505T000000
DTEND;TZID=America/Los_Angeles:20200506T000000
DTSTAMP:20260423T085337
CREATED:20231027T231612Z
LAST-MODIFIED:20240607T000313Z
UID:85409-1588636800-1588723200@progressiveemployment.org
SUMMARY:Giving Tuesday Now
DESCRIPTION:Support us now!
URL:https://progressiveemployment.org/event/giving-tuesday-now/
END:VEVENT
BEGIN:VEVENT
DTSTART;TZID=America/Los_Angeles:20191203T000000
DTEND;TZID=America/Los_Angeles:20191204T000000
DTSTAMP:20260423T085337
CREATED:20231027T231614Z
LAST-MODIFIED:20231027T232942Z
UID:85411-1575331200-1575417600@progressiveemployment.org
SUMMARY:Giving Tuesday
DESCRIPTION:Online
URL:https://progressiveemployment.org/event/giving-tuesday/
END:VEVENT
BEGIN:VEVENT
DTSTART;TZID=America/Los_Angeles:20191018T180000
DTEND;TZID=America/Los_Angeles:20191018T210000
DTSTAMP:20260423T085337
CREATED:20231027T231614Z
LAST-MODIFIED:20231027T233106Z
UID:85412-1571421600-1571432400@progressiveemployment.org
SUMMARY:Celebration of Inclusive Communities
DESCRIPTION:Come join PEC & CES 2019 Inclusion Celebration. There will be food\, wine and fun…
URL:https://progressiveemployment.org/event/celebration-of-inclusive-communities/
LOCATION:Warehouse Artists Lofts\, 1108 R St\, Sacramento\, CA\, 95811\, United States
END:VEVENT
END:VCALENDAR